BEGIN:VCALENDAR
VERSION:2.0
PRODID:-//Pfarre Gnigl - ECPv5.0.3.1//NONSGML v1.0//EN
CALSCALE:GREGORIAN
METHOD:PUBLISH
X-WR-CALNAME:Pfarre Gnigl
X-ORIGINAL-URL:http://pfarre-gnigl.at
X-WR-CALDESC:Veranstaltungen im Pfarre Gnigl
BEGIN:VTIMEZONE
TZID:Europe/Vienna
BEGIN:DAYLIGHT
TZOFFSETFROM:+0100
TZOFFSETTO:+0200
TZNAME:CEST
DTSTART:20260329T010000
END:DAYLIGHT
BEGIN:STANDARD
TZOFFSETFROM:+0200
TZOFFSETTO:+0100
TZNAME:CET
DTSTART:20261025T010000
END:STANDARD
END:VTIMEZONE
BEGIN:VEVENT
DTSTART;TZID=Europe/Vienna:20260414T150000
DTEND;TZID=Europe/Vienna:20260414T150000
DTSTAMP:20260420T153426
CREATED:20240919T184255Z
LAST-MODIFIED:20260329T202036Z
UID:7002-1776178800-1776178800@pfarre-gnigl.at
SUMMARY:Seniorentreff Gnigl
DESCRIPTION:Ein herzliches Grüß Gott\, \nwir treffen uns einmal im Monat (in der Regel am zweiten Dienstag) um 15:00 im Pfarrhof Gnigl. \nUnsere geselligen Treffen stehen meistens unter einem Motto. \n\nIn den letzten Jahren haben wir:\nüber Gott und die Welt geredet\,\nunzählige Tassen Kaffee getrunken (dazu köstlichen Kuchen genascht)\,\nviele Lieder gesungen\,\nunser Gedächtnis (erfolgreich) trainiert\,\nFreud und Leid miteinander geteilt\,\nnachdenkliche und lustige Geschichten gehört\,\nmiteinander Gottesdienst gefeiert\,\nschöne Ausflugsziele besucht.\n\n  \nNeugierig geworden? Dann besuchen Sie uns doch einfach!\nBis dahin liebe Grüße\, wir freuen uns auf Sie \nIhre Andrea Wieser (für das Seniorenteam der Pfarre Gnigl) \n  \n  \n
URL:http://pfarre-gnigl.at/veranstaltung/seniorentreff-gnigl/
LOCATION:Pfarrsaal Gnigl
END:VEVENT
END:VCALENDAR