BEGIN:VCALENDAR
VERSION:2.0
PRODID:-//Pfarre Gnigl - ECPv5.0.3.1//NONSGML v1.0//EN
CALSCALE:GREGORIAN
METHOD:PUBLISH
X-WR-CALNAME:Pfarre Gnigl
X-ORIGINAL-URL:http://pfarre-gnigl.at
X-WR-CALDESC:Veranstaltungen im Pfarre Gnigl
BEGIN:VTIMEZONE
TZID:Europe/Vienna
BEGIN:DAYLIGHT
TZOFFSETFROM:+0100
TZOFFSETTO:+0200
TZNAME:CEST
DTSTART:20260329T010000
END:DAYLIGHT
BEGIN:STANDARD
TZOFFSETFROM:+0200
TZOFFSETTO:+0100
TZNAME:CET
DTSTART:20261025T010000
END:STANDARD
END:VTIMEZONE
BEGIN:VEVENT
DTSTART;TZID=Europe/Vienna:20260306T180000
DTEND;TZID=Europe/Vienna:20260306T180000
DTSTAMP:20260422T121125
CREATED:20210227T191109Z
LAST-MODIFIED:20260206T173157Z
UID:3743-1772820000-1772820000@pfarre-gnigl.at
SUMMARY:Gottesdienst - Heilige Messe
DESCRIPTION:Gebetsgedenken auf gewisse Meinung \n  \nAnschließend Anbetung \n  \n  \n  \n
URL:http://pfarre-gnigl.at/veranstaltung/gottesdienst-heilige-messe-3/
LOCATION:Kirche
END:VEVENT
END:VCALENDAR